BEGIN:VCALENDAR
VERSION:2.0
PRODID:-//Universidad de Playa Ancha - Facultad de Ciencias de la Educación - ECPv6.15.19//NONSGML v1.0//EN
CALSCALE:GREGORIAN
METHOD:PUBLISH
X-ORIGINAL-URL:https://www.upla.cl/facultad/cienciaseducacion
X-WR-CALDESC:Eventos para Universidad de Playa Ancha - Facultad de Ciencias de la Educación
REFRESH-INTERVAL;VALUE=DURATION:PT1H
X-Robots-Tag:noindex
X-PUBLISHED-TTL:PT1H
BEGIN:VTIMEZONE
TZID:America/Santiago
BEGIN:STANDARD
TZOFFSETFROM:-0300
TZOFFSETTO:-0400
TZNAME:-04
DTSTART:20250406T030000
END:STANDARD
BEGIN:DAYLIGHT
TZOFFSETFROM:-0400
TZOFFSETTO:-0300
TZNAME:-03
DTSTART:20250907T040000
END:DAYLIGHT
BEGIN:STANDARD
TZOFFSETFROM:-0300
TZOFFSETTO:-0400
TZNAME:-04
DTSTART:20260405T030000
END:STANDARD
BEGIN:DAYLIGHT
TZOFFSETFROM:-0400
TZOFFSETTO:-0300
TZNAME:-03
DTSTART:20260906T040000
END:DAYLIGHT
BEGIN:STANDARD
TZOFFSETFROM:-0300
TZOFFSETTO:-0400
TZNAME:-04
DTSTART:20270404T030000
END:STANDARD
BEGIN:DAYLIGHT
TZOFFSETFROM:-0400
TZOFFSETTO:-0300
TZNAME:-03
DTSTART:20270905T040000
END:DAYLIGHT
END:VTIMEZONE
BEGIN:VEVENT
DTSTART;TZID=America/Santiago:20260512T100000
DTEND;TZID=America/Santiago:20260512T160000
DTSTAMP:20260423T163421
CREATED:20260122T130025Z
LAST-MODIFIED:20260122T130618Z
UID:128843-1778580000-1778601600@www.upla.cl
SUMMARY:3º Seminario Multicultural Chile-Brasil: Palabras Viajeras
DESCRIPTION:
URL:https://www.upla.cl/facultad/cienciaseducacion/agenda/3o-seminario-multicultural-chile-brasil-palabras-viajeras/
LOCATION:Casa Central UPLA\, Avenida Playa Ancha 850\, Valparaíso\, Valparaíso\, Chile
CATEGORIES:Seminario
END:VEVENT
BEGIN:VEVENT
DTSTART;TZID=America/Santiago:20260514T100000
DTEND;TZID=America/Santiago:20260514T170000
DTSTAMP:20260423T163421
CREATED:20260121T141211Z
LAST-MODIFIED:20260121T143652Z
UID:128826-1778752800-1778778000@www.upla.cl
SUMMARY:3º Seminario Multicultural Chile-Brasil: Plalabras Viajeras
DESCRIPTION:
URL:https://www.upla.cl/facultad/cienciaseducacion/agenda/3o-seminario-multicultural-chile-brasil-plalabras-viajeras/
LOCATION:Campus San Felipe\, Benigno Caldera 351\, San Felipe\, Valparaíso\, Chile
CATEGORIES:Seminario
END:VEVENT
BEGIN:VEVENT
DTSTART;VALUE=DATE:20260812
DTEND;VALUE=DATE:20260814
DTSTAMP:20260423T163421
CREATED:20251110T201715Z
LAST-MODIFIED:20251110T201723Z
UID:128784-1786492800-1786665599@www.upla.cl
SUMMARY:III° Congreso Nacional de Educación\, Cultura y Sociedad
DESCRIPTION:
URL:https://www.upla.cl/facultad/cienciaseducacion/agenda/iii-congreso-nacional-de-educacion-cultura-y-sociedad/
LOCATION:Casa Central UPLA\, Avenida Playa Ancha 850\, Valparaíso\, Valparaíso\, Chile
CATEGORIES:Congreso
END:VEVENT
END:VCALENDAR