BEGIN:VCALENDAR
VERSION:2.0
PRODID:-//Universidad de Playa Ancha - Facultad de Ciencias de la Educación - ECPv6.15.19//NONSGML v1.0//EN
CALSCALE:GREGORIAN
METHOD:PUBLISH
X-ORIGINAL-URL:https://www.upla.cl/facultad/cienciaseducacion
X-WR-CALDESC:Eventos para Universidad de Playa Ancha - Facultad de Ciencias de la Educación
REFRESH-INTERVAL;VALUE=DURATION:PT1H
X-Robots-Tag:noindex
X-PUBLISHED-TTL:PT1H
BEGIN:VTIMEZONE
TZID:America/Santiago
BEGIN:STANDARD
TZOFFSETFROM:-0300
TZOFFSETTO:-0400
TZNAME:-04
DTSTART:20250406T030000
END:STANDARD
BEGIN:DAYLIGHT
TZOFFSETFROM:-0400
TZOFFSETTO:-0300
TZNAME:-03
DTSTART:20250907T040000
END:DAYLIGHT
BEGIN:STANDARD
TZOFFSETFROM:-0300
TZOFFSETTO:-0400
TZNAME:-04
DTSTART:20260405T030000
END:STANDARD
BEGIN:DAYLIGHT
TZOFFSETFROM:-0400
TZOFFSETTO:-0300
TZNAME:-03
DTSTART:20260906T040000
END:DAYLIGHT
BEGIN:STANDARD
TZOFFSETFROM:-0300
TZOFFSETTO:-0400
TZNAME:-04
DTSTART:20270404T030000
END:STANDARD
BEGIN:DAYLIGHT
TZOFFSETFROM:-0400
TZOFFSETTO:-0300
TZNAME:-03
DTSTART:20270905T040000
END:DAYLIGHT
END:VTIMEZONE
BEGIN:VEVENT
DTSTART;VALUE=DATE:20260108
DTEND;VALUE=DATE:20260110
DTSTAMP:20260424T075913
CREATED:20251110T185250Z
LAST-MODIFIED:20251110T185252Z
UID:128766-1767830400-1768003199@www.upla.cl
SUMMARY:II Congreso de Estudiantes de Postgrado en Educación
DESCRIPTION:
URL:https://www.upla.cl/facultad/cienciaseducacion/agenda/ii-congreso-de-estudiantes-de-postgrado-en-educacion/
LOCATION:Facultad de Ciencias de la Educacion UPLA\, Avenida Playa Ancha 850\, Valparaíso\, Valparaíso\, Chile
CATEGORIES:Congreso
END:VEVENT
END:VCALENDAR