BEGIN:VCALENDAR
VERSION:2.0
PRODID:-//Universidad de Playa Ancha - Facultad de Ciencias de la Educación - ECPv6.15.19//NONSGML v1.0//EN
CALSCALE:GREGORIAN
METHOD:PUBLISH
X-ORIGINAL-URL:https://www.upla.cl/facultad/cienciaseducacion
X-WR-CALDESC:Eventos para Universidad de Playa Ancha - Facultad de Ciencias de la Educación
REFRESH-INTERVAL;VALUE=DURATION:PT1H
X-Robots-Tag:noindex
X-PUBLISHED-TTL:PT1H
BEGIN:VTIMEZONE
TZID:America/Santiago
BEGIN:STANDARD
TZOFFSETFROM:-0300
TZOFFSETTO:-0400
TZNAME:-04
DTSTART:20240407T030000
END:STANDARD
BEGIN:DAYLIGHT
TZOFFSETFROM:-0400
TZOFFSETTO:-0300
TZNAME:-03
DTSTART:20240908T040000
END:DAYLIGHT
BEGIN:STANDARD
TZOFFSETFROM:-0300
TZOFFSETTO:-0400
TZNAME:-04
DTSTART:20250406T030000
END:STANDARD
BEGIN:DAYLIGHT
TZOFFSETFROM:-0400
TZOFFSETTO:-0300
TZNAME:-03
DTSTART:20250907T040000
END:DAYLIGHT
BEGIN:STANDARD
TZOFFSETFROM:-0300
TZOFFSETTO:-0400
TZNAME:-04
DTSTART:20260405T030000
END:STANDARD
BEGIN:DAYLIGHT
TZOFFSETFROM:-0400
TZOFFSETTO:-0300
TZNAME:-03
DTSTART:20260906T040000
END:DAYLIGHT
END:VTIMEZONE
BEGIN:VEVENT
DTSTART;VALUE=DATE:20250814
DTEND;VALUE=DATE:20250815
DTSTAMP:20260424T170226
CREATED:20251110T193245Z
LAST-MODIFIED:20251110T193251Z
UID:128780-1755129600-1755215999@www.upla.cl
SUMMARY:Jornadas de Extensión “Pedagogía y Evaluación: Diálogo para el logro de aprendizajes”
DESCRIPTION:
URL:https://www.upla.cl/facultad/cienciaseducacion/agenda/jornadas-de-extension-pedagogia-y-evaluacion-dialogo-para-el-logro-de-aprendizajes/
LOCATION:Casa Central UPLA\, Avenida Playa Ancha 850\, Valparaíso\, Valparaíso\, Chile
CATEGORIES:Jornada
END:VEVENT
END:VCALENDAR